Workbook
Name SO2_ppb: Inputs!$B$5
Name H2O2_ppb: Inputs!$B$6
Name O3_ppb: Inputs!$B$7
Name HNO3_ppb: Inputs!$B$8
Name NH3_ppb: Inputs!$B$9
Name dt_min: Inputs!$B$10
Name LWC: Inputs!$B$12
Name Temp: Inputs!$B$13
Name Rgas: Inputs!$B$15
Name L_vol: Inputs!$B$16
Name RTL: Inputs!$B$17
Name ppb_to_M: Inputs!$B$18
Name S4_0: Inputs!$B$19
Name P_0: Inputs!$B$20
Name O_0: Inputs!$B$21
Name Ntot: Inputs!$B$22
Name Atot: Inputs!$B$23
Name H_SO2: Inputs!$B$25
Name Ka_S1: Inputs!$B$26
Name Ka_S2: Inputs!$B$27
Name H_H2O2: Inputs!$B$28
Name H_O3: Inputs!$B$29
Name H_NH3: Inputs!$B$30
Name K_NH3: Inputs!$B$31
Name K_w: Inputs!$B$32
Name K_HSO4: Inputs!$B$33
Name k_H2O2: Inputs!$B$34
Name Keq_H2O2: Inputs!$B$35
Name k_O3_a: Inputs!$B$36
Name k_O3_b: Inputs!$B$37
Name k_O3_c: Inputs!$B$38

Sheet Inputs
A1: Raindrop pH profile: S(IV) oxidation by H2O2 + O3 (closed cloud parcel, 298 K)
A2: Yellow cells = inputs you may change. Everything else recalculates automatically. Source of constants: Seinfeld & Pandis, Atmospheric Chemistry & Physics, Ch. 7.
A4: GIVEN IN THE QUESTION (gas-phase mixing ratios)
A5: SO2_ppb | B5: 5 | C5: ppb | D5: total S(IV) = 5 ppb
A6: H2O2_ppb | B6: 1 | C6: ppb
A7: O3_ppb | B7: 5 | C7: ppb
A8: HNO3_ppb | B8: 1 | C8: ppb
A9: NH3_ppb | B9: 5 | C9: ppb | D9: partly cut off in the photo; 5 ppb assumed
A10: dt_min | B10: 1 | C10: min | D10: time step (row spacing)
A11: ASSUMED (not in the question)
A12: LWC | B12: 0.2 | C12: g/m3 | D12: cloud liquid water content; 0.2 gives pH = 6.08 at t = 0, i.e. the 'pH = 6' in the notes
A13: Temp | B13: 298 | C13: K
A14: DERIVED
A15: Rgas | B15: 0.08205 | C15: L atm/(mol K)
A16: L_vol | B16: =LWC/1000000 | C16: m3 water / m3 air | D16: volume fraction of water
A17: RTL | B17: =Rgas*Temp*L_vol | C17: - | D17: used in every gas/liquid split
A18: ppb_to_M | B18: =1/(1000000000*RTL) | C18: M per ppb | D18: 1 ppb fully dissolved, in mol per litre of WATER
A19: S4_0 | B19: =SO2_ppb*ppb_to_M | C19: M | D19: total S(IV), gas + drop, per L water
A20: P_0 | B20: =H2O2_ppb*ppb_to_M | C20: M | D20: total H2O2
A21: O_0 | B21: =O3_ppb*ppb_to_M | C21: M | D21: total O3
A22: Ntot | B22: =HNO3_ppb*ppb_to_M | C22: M | D22: HNO3 is ~100% dissolved -> all NO3-
A23: Atot | B23: =NH3_ppb*ppb_to_M | C23: M | D23: total ammonia, gas + drop
A24: CONSTANTS (298 K)
A25: H_SO2 | B25: 1.23 | C25: M/atm | D25: Henry: SO2
A26: Ka_S1 | B26: 0.013 | C26: M | D26: SO2.H2O <-> H+ + HSO3-
A27: Ka_S2 | B27: 6.6e-08 | C27: M | D27: HSO3- <-> H+ + SO3 2-
A28: H_H2O2 | B28: 74500 | C28: M/atm | D28: Henry: H2O2
A29: H_O3 | B29: 0.0113 | C29: M/atm | D29: Henry: O3
A30: H_NH3 | B30: 62 | C30: M/atm | D30: Henry: NH3
A31: K_NH3 | B31: 1.7e-05 | C31: M | D31: NH3.H2O <-> NH4+ + OH-
A32: K_w | B32: 1e-14 | C32: M2
A33: K_HSO4 | B33: 0.0102 | C33: M | D33: HSO4- <-> H+ + SO4 2-
A34: k_H2O2 | B34: 74500000 | C34: M-2 s-1 | D34: H2O2 path: r = k_H2O2[H+][H2O2(aq)][HSO3-]/(1+Keq_H2O2[H+])
A35: Keq_H2O2 | B35: 13 | C35: M-1
A36: k_O3_a | B36: 24000 | C36: M-1 s-1 | D36: O3 path: r = (k_O3_a[SO2.H2O]+k_O3_b[HSO3-]+k_O3_c[SO3 2-])[O3(aq)]
A37: k_O3_b | B37: 370000 | C37: M-1 s-1
A38: k_O3_c | B38: 1500000000 | C38: M-1 s-1

Sheet Profile
A1: t (min) | B1: S(IV) total (M) | C1: S(VI) (M) | D1: H2O2 total (M) | E1: O3 total (M) | F1: pH | G1: [H+] | H1: frac S(IV) in drop | I1: S(IV) in drop | J1: D | K1: [SO2.H2O] | L1: [HSO3-] | M1: [SO3 2-] | N1: [HSO4-] | O1: [SO4 2-] | P1: [NO3-] | Q1: [NH4+] | R1: [OH-] | S1: charge residual | T1: [H2O2(aq)] | U1: [O3(aq)] | V1: r_H2O2 (M/s) | W1: r_O3 (M/s) | X1: r total (M/s)
A2: 0 | B2: =S4_0 | C2: 0 | D2: =P_0 | E2: =O_0 | F2: =pH_Solver!AL2 | G2: =10^(-F2) | H2: =H_SO2*(1+Ka_S1/G2+Ka_S1*Ka_S2/G2^2)*RTL/(1+H_SO2*(1+Ka_S1/G2+Ka_S1*Ka_S2/G2^2)*RTL) | I2: =B2*H2 | J2: =G2^2+Ka_S1*G2+Ka_S1*Ka_S2 | K2: =I2*G2^2/J2 | L2: =I2*Ka_S1*G2/J2 | M2: =I2*Ka_S1*Ka_S2/J2 | N2: =C2*G2/(G2+K_HSO4) | O2: =C2*K_HSO4/(G2+K_HSO4) | P2: =Ntot | Q2: =Atot*H_NH3*(1+K_NH3*G2/K_w)*RTL/(1+H_NH3*(1+K_NH3*G2/K_w)*RTL)*(K_NH3*G2/K_w)/(1+K_NH3*G2/K_w) | R2: =K_w/G2 | S2: =G2+Q2-L2-2*M2-P2-R2-2*O2-N2 | T2: =D2*H_H2O2*RTL/(1+H_H2O2*RTL) | U2: =E2*H_O3*RTL/(1+H_O3*RTL) | V2: =k_H2O2*G2*T2*L2/(1+Keq_H2O2*G2) | W2: =(k_O3_a*K2+k_O3_b*L2+k_O3_c*M2)*U2 | X2: =V2+W2
A3: =A2+dt_min | B3: =MAX(B2-X2*dt_min*60,0) | C3: =C2+(B2-B3) | D3: =MAX(D2-V2*dt_min*60,0) | E3: =MAX(E2-W2*dt_min*60,0) | F3: =pH_Solver!AL3 | G3: =10^(-F3) | H3: =H_SO2*(1+Ka_S1/G3+Ka_S1*Ka_S2/G3^2)*RTL/(1+H_SO2*(1+Ka_S1/G3+Ka_S1*Ka_S2/G3^2)*RTL) | I3: =B3*H3 | J3: =G3^2+Ka_S1*G3+Ka_S1*Ka_S2 | K3: =I3*G3^2/J3 | L3: =I3*Ka_S1*G3/J3 | M3: =I3*Ka_S1*Ka_S2/J3 | N3: =C3*G3/(G3+K_HSO4) | O3: =C3*K_HSO4/(G3+K_HSO4) | P3: =Ntot | Q3: =Atot*H_NH3*(1+K_NH3*G3/K_w)*RTL/(1+H_NH3*(1+K_NH3*G3/K_w)*RTL)*(K_NH3*G3/K_w)/(1+K_NH3*G3/K_w) | R3: =K_w/G3 | S3: =G3+Q3-L3-2*M3-P3-R3-2*O3-N3 | T3: =D3*H_H2O2*RTL/(1+H_H2O2*RTL) | U3: =E3*H_O3*RTL/(1+H_O3*RTL) | V3: =k_H2O2*G3*T3*L3/(1+Keq_H2O2*G3) | W3: =(k_O3_a*K3+k_O3_b*L3+k_O3_c*M3)*U3 | X3: =V3+W3
A4: =A3+dt_min | B4: =MAX(B3-X3*dt_min*60,0) | C4: =C3+(B3-B4) | D4: =MAX(D3-V3*dt_min*60,0) | E4: =MAX(E3-W3*dt_min*60,0) | F4: =pH_Solver!AL4 | G4: =10^(-F4) | H4: =H_SO2*(1+Ka_S1/G4+Ka_S1*Ka_S2/G4^2)*RTL/(1+H_SO2*(1+Ka_S1/G4+Ka_S1*Ka_S2/G4^2)*RTL) | I4: =B4*H4 | J4: =G4^2+Ka_S1*G4+Ka_S1*Ka_S2 | K4: =I4*G4^2/J4 | L4: =I4*Ka_S1*G4/J4 | M4: =I4*Ka_S1*Ka_S2/J4 | N4: =C4*G4/(G4+K_HSO4) | O4: =C4*K_HSO4/(G4+K_HSO4) | P4: =Ntot | Q4: =Atot*H_NH3*(1+K_NH3*G4/K_w)*RTL/(1+H_NH3*(1+K_NH3*G4/K_w)*RTL)*(K_NH3*G4/K_w)/(1+K_NH3*G4/K_w) | R4: =K_w/G4 | S4: =G4+Q4-L4-2*M4-P4-R4-2*O4-N4 | T4: =D4*H_H2O2*RTL/(1+H_H2O2*RTL) | U4: =E4*H_O3*RTL/(1+H_O3*RTL) | V4: =k_H2O2*G4*T4*L4/(1+Keq_H2O2*G4) | W4: =(k_O3_a*K4+k_O3_b*L4+k_O3_c*M4)*U4 | X4: =V4+W4
A5: =A4+dt_min | B5: =MAX(B4-X4*dt_min*60,0) | C5: =C4+(B4-B5) | D5: =MAX(D4-V4*dt_min*60,0) | E5: =MAX(E4-W4*dt_min*60,0) | F5: =pH_Solver!AL5 | G5: =10^(-F5) | H5: =H_SO2*(1+Ka_S1/G5+Ka_S1*Ka_S2/G5^2)*RTL/(1+H_SO2*(1+Ka_S1/G5+Ka_S1*Ka_S2/G5^2)*RTL) | I5: =B5*H5 | J5: =G5^2+Ka_S1*G5+Ka_S1*Ka_S2 | K5: =I5*G5^2/J5 | L5: =I5*Ka_S1*G5/J5 | M5: =I5*Ka_S1*Ka_S2/J5 | N5: =C5*G5/(G5+K_HSO4) | O5: =C5*K_HSO4/(G5+K_HSO4) | P5: =Ntot | Q5: =Atot*H_NH3*(1+K_NH3*G5/K_w)*RTL/(1+H_NH3*(1+K_NH3*G5/K_w)*RTL)*(K_NH3*G5/K_w)/(1+K_NH3*G5/K_w) | R5: =K_w/G5 | S5: =G5+Q5-L5-2*M5-P5-R5-2*O5-N5 | T5: =D5*H_H2O2*RTL/(1+H_H2O2*RTL) | U5: =E5*H_O3*RTL/(1+H_O3*RTL) | V5: =k_H2O2*G5*T5*L5/(1+Keq_H2O2*G5) | W5: =(k_O3_a*K5+k_O3_b*L5+k_O3_c*M5)*U5 | X5: =V5+W5
A6: =A5+dt_min | B6: =MAX(B5-X5*dt_min*60,0) | C6: =C5+(B5-B6) | D6: =MAX(D5-V5*dt_min*60,0) | E6: =MAX(E5-W5*dt_min*60,0) | F6: =pH_Solver!AL6 | G6: =10^(-F6) | H6: =H_SO2*(1+Ka_S1/G6+Ka_S1*Ka_S2/G6^2)*RTL/(1+H_SO2*(1+Ka_S1/G6+Ka_S1*Ka_S2/G6^2)*RTL) | I6: =B6*H6 | J6: =G6^2+Ka_S1*G6+Ka_S1*Ka_S2 | K6: =I6*G6^2/J6 | L6: =I6*Ka_S1*G6/J6 | M6: =I6*Ka_S1*Ka_S2/J6 | N6: =C6*G6/(G6+K_HSO4) | O6: =C6*K_HSO4/(G6+K_HSO4) | P6: =Ntot | Q6: =Atot*H_NH3*(1+K_NH3*G6/K_w)*RTL/(1+H_NH3*(1+K_NH3*G6/K_w)*RTL)*(K_NH3*G6/K_w)/(1+K_NH3*G6/K_w) | R6: =K_w/G6 | S6: =G6+Q6-L6-2*M6-P6-R6-2*O6-N6 | T6: =D6*H_H2O2*RTL/(1+H_H2O2*RTL) | U6: =E6*H_O3*RTL/(1+H_O3*RTL) | V6: =k_H2O2*G6*T6*L6/(1+Keq_H2O2*G6) | W6: =(k_O3_a*K6+k_O3_b*L6+k_O3_c*M6)*U6 | X6: =V6+W6
A7: =A6+dt_min | B7: =MAX(B6-X6*dt_min*60,0) | C7: =C6+(B6-B7) | D7: =MAX(D6-V6*dt_min*60,0) | E7: =MAX(E6-W6*dt_min*60,0) | F7: =pH_Solver!AL7 | G7: =10^(-F7) | H7: =H_SO2*(1+Ka_S1/G7+Ka_S1*Ka_S2/G7^2)*RTL/(1+H_SO2*(1+Ka_S1/G7+Ka_S1*Ka_S2/G7^2)*RTL) | I7: =B7*H7 | J7: =G7^2+Ka_S1*G7+Ka_S1*Ka_S2 | K7: =I7*G7^2/J7 | L7: =I7*Ka_S1*G7/J7 | M7: =I7*Ka_S1*Ka_S2/J7 | N7: =C7*G7/(G7+K_HSO4) | O7: =C7*K_HSO4/(G7+K_HSO4) | P7: =Ntot | Q7: =Atot*H_NH3*(1+K_NH3*G7/K_w)*RTL/(1+H_NH3*(1+K_NH3*G7/K_w)*RTL)*(K_NH3*G7/K_w)/(1+K_NH3*G7/K_w) | R7: =K_w/G7 | S7: =G7+Q7-L7-2*M7-P7-R7-2*O7-N7 | T7: =D7*H_H2O2*RTL/(1+H_H2O2*RTL) | U7: =E7*H_O3*RTL/(1+H_O3*RTL) | V7: =k_H2O2*G7*T7*L7/(1+Keq_H2O2*G7) | W7: =(k_O3_a*K7+k_O3_b*L7+k_O3_c*M7)*U7 | X7: =V7+W7
A8: =A7+dt_min | B8: =MAX(B7-X7*dt_min*60,0) | C8: =C7+(B7-B8) | D8: =MAX(D7-V7*dt_min*60,0) | E8: =MAX(E7-W7*dt_min*60,0) | F8: =pH_Solver!AL8 | G8: =10^(-F8) | H8: =H_SO2*(1+Ka_S1/G8+Ka_S1*Ka_S2/G8^2)*RTL/(1+H_SO2*(1+Ka_S1/G8+Ka_S1*Ka_S2/G8^2)*RTL) | I8: =B8*H8 | J8: =G8^2+Ka_S1*G8+Ka_S1*Ka_S2 | K8: =I8*G8^2/J8 | L8: =I8*Ka_S1*G8/J8 | M8: =I8*Ka_S1*Ka_S2/J8 | N8: =C8*G8/(G8+K_HSO4) | O8: =C8*K_HSO4/(G8+K_HSO4) | P8: =Ntot | Q8: =Atot*H_NH3*(1+K_NH3*G8/K_w)*RTL/(1+H_NH3*(1+K_NH3*G8/K_w)*RTL)*(K_NH3*G8/K_w)/(1+K_NH3*G8/K_w) | R8: =K_w/G8 | S8: =G8+Q8-L8-2*M8-P8-R8-2*O8-N8 | T8: =D8*H_H2O2*RTL/(1+H_H2O2*RTL) | U8: =E8*H_O3*RTL/(1+H_O3*RTL) | V8: =k_H2O2*G8*T8*L8/(1+Keq_H2O2*G8) | W8: =(k_O3_a*K8+k_O3_b*L8+k_O3_c*M8)*U8 | X8: =V8+W8
A9: =A8+dt_min | B9: =MAX(B8-X8*dt_min*60,0) | C9: =C8+(B8-B9) | D9: =MAX(D8-V8*dt_min*60,0) | E9: =MAX(E8-W8*dt_min*60,0) | F9: =pH_Solver!AL9 | G9: =10^(-F9) | H9: =H_SO2*(1+Ka_S1/G9+Ka_S1*Ka_S2/G9^2)*RTL/(1+H_SO2*(1+Ka_S1/G9+Ka_S1*Ka_S2/G9^2)*RTL) | I9: =B9*H9 | J9: =G9^2+Ka_S1*G9+Ka_S1*Ka_S2 | K9: =I9*G9^2/J9 | L9: =I9*Ka_S1*G9/J9 | M9: =I9*Ka_S1*Ka_S2/J9 | N9: =C9*G9/(G9+K_HSO4) | O9: =C9*K_HSO4/(G9+K_HSO4) | P9: =Ntot | Q9: =Atot*H_NH3*(1+K_NH3*G9/K_w)*RTL/(1+H_NH3*(1+K_NH3*G9/K_w)*RTL)*(K_NH3*G9/K_w)/(1+K_NH3*G9/K_w) | R9: =K_w/G9 | S9: =G9+Q9-L9-2*M9-P9-R9-2*O9-N9 | T9: =D9*H_H2O2*RTL/(1+H_H2O2*RTL) | U9: =E9*H_O3*RTL/(1+H_O3*RTL) | V9: =k_H2O2*G9*T9*L9/(1+Keq_H2O2*G9) | W9: =(k_O3_a*K9+k_O3_b*L9+k_O3_c*M9)*U9 | X9: =V9+W9
A10: =A9+dt_min | B10: =MAX(B9-X9*dt_min*60,0) | C10: =C9+(B9-B10) | D10: =MAX(D9-V9*dt_min*60,0) | E10: =MAX(E9-W9*dt_min*60,0) | F10: =pH_Solver!AL10 | G10: =10^(-F10) | H10: =H_SO2*(1+Ka_S1/G10+Ka_S1*Ka_S2/G10^2)*RTL/(1+H_SO2*(1+Ka_S1/G10+Ka_S1*Ka_S2/G10^2)*RTL) | I10: =B10*H10 | J10: =G10^2+Ka_S1*G10+Ka_S1*Ka_S2 | K10: =I10*G10^2/J10 | L10: =I10*Ka_S1*G10/J10 | M10: =I10*Ka_S1*Ka_S2/J10 | N10: =C10*G10/(G10+K_HSO4) | O10: =C10*K_HSO4/(G10+K_HSO4) | P10: =Ntot | Q10: =Atot*H_NH3*(1+K_NH3*G10/K_w)*RTL/(1+H_NH3*(1+K_NH3*G10/K_w)*RTL)*(K_NH3*G10/K_w)/(1+K_NH3*G10/K_w) | R10: =K_w/G10 | S10: =G10+Q10-L10-2*M10-P10-R10-2*O10-N10 | T10: =D10*H_H2O2*RTL/(1+H_H2O2*RTL) | U10: =E10*H_O3*RTL/(1+H_O3*RTL) | V10: =k_H2O2*G10*T10*L10/(1+Keq_H2O2*G10) | W10: =(k_O3_a*K10+k_O3_b*L10+k_O3_c*M10)*U10 | X10: =V10+W10
A11: =A10+dt_min | B11: =MAX(B10-X10*dt_min*60,0) | C11: =C10+(B10-B11) | D11: =MAX(D10-V10*dt_min*60,0) | E11: =MAX(E10-W10*dt_min*60,0) | F11: =pH_Solver!AL11 | G11: =10^(-F11) | H11: =H_SO2*(1+Ka_S1/G11+Ka_S1*Ka_S2/G11^2)*RTL/(1+H_SO2*(1+Ka_S1/G11+Ka_S1*Ka_S2/G11^2)*RTL) | I11: =B11*H11 | J11: =G11^2+Ka_S1*G11+Ka_S1*Ka_S2 | K11: =I11*G11^2/J11 | L11: =I11*Ka_S1*G11/J11 | M11: =I11*Ka_S1*Ka_S2/J11 | N11: =C11*G11/(G11+K_HSO4) | O11: =C11*K_HSO4/(G11+K_HSO4) | P11: =Ntot | Q11: =Atot*H_NH3*(1+K_NH3*G11/K_w)*RTL/(1+H_NH3*(1+K_NH3*G11/K_w)*RTL)*(K_NH3*G11/K_w)/(1+K_NH3*G11/K_w) | R11: =K_w/G11 | S11: =G11+Q11-L11-2*M11-P11-R11-2*O11-N11 | T11: =D11*H_H2O2*RTL/(1+H_H2O2*RTL) | U11: =E11*H_O3*RTL/(1+H_O3*RTL) | V11: =k_H2O2*G11*T11*L11/(1+Keq_H2O2*G11) | W11: =(k_O3_a*K11+k_O3_b*L11+k_O3_c*M11)*U11 | X11: =V11+W11
A12: =A11+dt_min | B12: =MAX(B11-X11*dt_min*60,0) | C12: =C11+(B11-B12) | D12: =MAX(D11-V11*dt_min*60,0) | E12: =MAX(E11-W11*dt_min*60,0) | F12: =pH_Solver!AL12 | G12: =10^(-F12) | H12: =H_SO2*(1+Ka_S1/G12+Ka_S1*Ka_S2/G12^2)*RTL/(1+H_SO2*(1+Ka_S1/G12+Ka_S1*Ka_S2/G12^2)*RTL) | I12: =B12*H12 | J12: =G12^2+Ka_S1*G12+Ka_S1*Ka_S2 | K12: =I12*G12^2/J12 | L12: =I12*Ka_S1*G12/J12 | M12: =I12*Ka_S1*Ka_S2/J12 | N12: =C12*G12/(G12+K_HSO4) | O12: =C12*K_HSO4/(G12+K_HSO4) | P12: =Ntot | Q12: =Atot*H_NH3*(1+K_NH3*G12/K_w)*RTL/(1+H_NH3*(1+K_NH3*G12/K_w)*RTL)*(K_NH3*G12/K_w)/(1+K_NH3*G12/K_w) | R12: =K_w/G12 | S12: =G12+Q12-L12-2*M12-P12-R12-2*O12-N12 | T12: =D12*H_H2O2*RTL/(1+H_H2O2*RTL) | U12: =E12*H_O3*RTL/(1+H_O3*RTL) | V12: =k_H2O2*G12*T12*L12/(1+Keq_H2O2*G12) | W12: =(k_O3_a*K12+k_O3_b*L12+k_O3_c*M12)*U12 | X12: =V12+W12
A13: =A12+dt_min | B13: =MAX(B12-X12*dt_min*60,0) | C13: =C12+(B12-B13) | D13: =MAX(D12-V12*dt_min*60,0) | E13: =MAX(E12-W12*dt_min*60,0) | F13: =pH_Solver!AL13 | G13: =10^(-F13) | H13: =H_SO2*(1+Ka_S1/G13+Ka_S1*Ka_S2/G13^2)*RTL/(1+H_SO2*(1+Ka_S1/G13+Ka_S1*Ka_S2/G13^2)*RTL) | I13: =B13*H13 | J13: =G13^2+Ka_S1*G13+Ka_S1*Ka_S2 | K13: =I13*G13^2/J13 | L13: =I13*Ka_S1*G13/J13 | M13: =I13*Ka_S1*Ka_S2/J13 | N13: =C13*G13/(G13+K_HSO4) | O13: =C13*K_HSO4/(G13+K_HSO4) | P13: =Ntot | Q13: =Atot*H_NH3*(1+K_NH3*G13/K_w)*RTL/(1+H_NH3*(1+K_NH3*G13/K_w)*RTL)*(K_NH3*G13/K_w)/(1+K_NH3*G13/K_w) | R13: =K_w/G13 | S13: =G13+Q13-L13-2*M13-P13-R13-2*O13-N13 | T13: =D13*H_H2O2*RTL/(1+H_H2O2*RTL) | U13: =E13*H_O3*RTL/(1+H_O3*RTL) | V13: =k_H2O2*G13*T13*L13/(1+Keq_H2O2*G13) | W13: =(k_O3_a*K13+k_O3_b*L13+k_O3_c*M13)*U13 | X13: =V13+W13
A14: =A13+dt_min | B14: =MAX(B13-X13*dt_min*60,0) | C14: =C13+(B13-B14) | D14: =MAX(D13-V13*dt_min*60,0) | E14: =MAX(E13-W13*dt_min*60,0) | F14: =pH_Solver!AL14 | G14: =10^(-F14) | H14: =H_SO2*(1+Ka_S1/G14+Ka_S1*Ka_S2/G14^2)*RTL/(1+H_SO2*(1+Ka_S1/G14+Ka_S1*Ka_S2/G14^2)*RTL) | I14: =B14*H14 | J14: =G14^2+Ka_S1*G14+Ka_S1*Ka_S2 | K14: =I14*G14^2/J14 | L14: =I14*Ka_S1*G14/J14 | M14: =I14*Ka_S1*Ka_S2/J14 | N14: =C14*G14/(G14+K_HSO4) | O14: =C14*K_HSO4/(G14+K_HSO4) | P14: =Ntot | Q14: =Atot*H_NH3*(1+K_NH3*G14/K_w)*RTL/(1+H_NH3*(1+K_NH3*G14/K_w)*RTL)*(K_NH3*G14/K_w)/(1+K_NH3*G14/K_w) | R14: =K_w/G14 | S14: =G14+Q14-L14-2*M14-P14-R14-2*O14-N14 | T14: =D14*H_H2O2*RTL/(1+H_H2O2*RTL) | U14: =E14*H_O3*RTL/(1+H_O3*RTL) | V14: =k_H2O2*G14*T14*L14/(1+Keq_H2O2*G14) | W14: =(k_O3_a*K14+k_O3_b*L14+k_O3_c*M14)*U14 | X14: =V14+W14
... A52: =A51+dt_min | B52: =MAX(B51-X51*dt_min*60,0) | C52: =C51+(B51-B52) | D52: =MAX(D51-V51*dt_min*60,0) | E52: =MAX(E51-W51*dt_min*60,0) | F52: =pH_Solver!AL52 | G52: =10^(-F52) | H52: =H_SO2*(1+Ka_S1/G52+Ka_S1*Ka_S2/G52^2)*RTL/(1+H_SO2*(1+Ka_S1/G52+Ka_S1*Ka_S2/G52^2)*RTL) | I52: =B52*H52 | J52: =G52^2+Ka_S1*G52+Ka_S1*Ka_S2 | K52: =I52*G52^2/J52 | L52: =I52*Ka_S1*G52/J52 | M52: =I52*Ka_S1*Ka_S2/J52 | N52: =C52*G52/(G52+K_HSO4) | O52: =C52*K_HSO4/(G52+K_HSO4) | P52: =Ntot | Q52: =Atot*H_NH3*(1+K_NH3*G52/K_w)*RTL/(1+H_NH3*(1+K_NH3*G52/K_w)*RTL)*(K_NH3*G52/K_w)/(1+K_NH3*G52/K_w) | R52: =K_w/G52 | S52: =G52+Q52-L52-2*M52-P52-R52-2*O52-N52 | T52: =D52*H_H2O2*RTL/(1+H_H2O2*RTL) | U52: =E52*H_O3*RTL/(1+H_O3*RTL) | V52: =k_H2O2*G52*T52*L52/(1+Keq_H2O2*G52) | W52: =(k_O3_a*K52+k_O3_b*L52+k_O3_c*M52)*U52 | X52: =V52+W52

Sheet pH_Solver
A1: t (min) | B1: guess 0 | C1: guess 1 | D1: guess 2 | E1: guess 3 | F1: guess 4 | G1: guess 5 | H1: guess 6 | I1: guess 7 | J1: guess 8 | K1: guess 9 | L1: guess 10 | M1: guess 11 | N1: guess 12 | O1: guess 13 | P1: guess 14 | Q1: guess 15 | R1: guess 16 | S1: guess 17 | T1: guess 18 | U1: guess 19 | V1: guess 20 | W1: guess 21 | X1: guess 22 | Y1: guess 23 | Z1: guess 24 | AA1: guess 25 | AB1: guess 26 | AC1: guess 27 | AD1: guess 28 | AE1: guess 29 | AF1: guess 30 | AG1: guess 31 | AH1: guess 32 | AI1: guess 33 | AJ1: guess 34 | AK1: guess 35 | AL1: guess 36
A2: =Profile!A2 | B2: 7 | C2: =B2+IF((10^(-B2)+Atot*(H_NH3*(1+K_NH3*10^(-B2)/K_w))*RTL/(1+(H_NH3*(1+K_NH3*10^(-B2)/K_w))*RTL)*(K_NH3*10^(-B2)/K_w)/(1+K_NH3*10^(-B2)/K_w)-Profile!B2*(H_SO2*(1+Ka_S1/10^(-B2)+Ka_S1*Ka_S2/10^(-B2)^2))*RTL/(1+(H_SO2*(1+Ka_S1/10^(-B2)+Ka_S1*Ka_S2/10^(-B2)^2))*RTL)*(Ka_S1*10^(-B2)+2*Ka_S1*Ka_S2)/(10^(-B2)^2+Ka_S1*10^(-B2)+Ka_S1*Ka_S2)-Ntot-K_w/10^(-B2)-Profile!C2*(10^(-B2)+2*K_HSO4)/(10^(-B2)+K_HSO4))>0,1,-1)*7/2^1 | D2: =C2+IF((10^(-C2)+Atot*(H_NH3*(1+K_NH3*10^(-C2)/K_w))*RTL/(1+(H_NH3*(1+K_NH3*10^(-C2)/K_w))*RTL)*(K_NH3*10^(-C2)/K_w)/(1+K_NH3*10^(-C2)/K_w)-Profile!B2*(H_SO2*(1+Ka_S1/10^(-C2)+Ka_S1*Ka_S2/10^(-C2)^2))*RTL/(1+(H_SO2*(1+Ka_S1/10^(-C2)+Ka_S1*Ka_S2/10^(-C2)^2))*RTL)*(Ka_S1*10^(-C2)+2*Ka_S1*Ka_S2)/(10^(-C2)^2+Ka_S1*10^(-C2)+Ka_S1*Ka_S2)-Ntot-K_w/10^(-C2)-Profile!C2*(10^(-C2)+2*K_HSO4)/(10^(-C2)+K_HSO4))>0,1,-1)*7/2^2 | E2: =D2+IF((10^(-D2)+Atot*(H_NH3*(1+K_NH3*10^(-D2)/K_w))*RTL/(1+(H_NH3*(1+K_NH3*10^(-D2)/K_w))*RTL)*(K_NH3*10^(-D2)/K_w)/(1+K_NH3*10^(-D2)/K_w)-Profile!B2*(H_SO2*(1+Ka_S1/10^(-D2)+Ka_S1*Ka_S2/10^(-D2)^2))*RTL/(1+(H_SO2*(1+Ka_S1/10^(-D2)+Ka_S1*Ka_S2/10^(-D2)^2))*RTL)*(Ka_S1*10^(-D2)+2*Ka_S1*Ka_S2)/(10^(-D2)^2+Ka_S1*10^(-D2)+Ka_S1*Ka_S2)-Ntot-K_w/10^(-D2)-Profile!C2*(10^(-D2)+2*K_HSO4)/(10^(-D2)+K_HSO4))>0,1,-1)*7/2^3 | F2: =E2+IF((10^(-E2)+Atot*(H_NH3*(1+K_NH3*10^(-E2)/K_w))*RTL/(1+(H_NH3*(1+K_NH3*10^(-E2)/K_w))*RTL)*(K_NH3*10^(-E2)/K_w)/(1+K_NH3*10^(-E2)/K_w)-Profile!B2*(H_SO2*(1+Ka_S1/10^(-E2)+Ka_S1*Ka_S2/10^(-E2)^2))*RTL/(1+(H_SO2*(1+Ka_S1/10^(-E2)+Ka_S1*Ka_S2/10^(-E2)^2))*RTL)*(Ka_S1*10^(-E2)+2*Ka_S1*Ka_S2)/(10^(-E2)^2+Ka_S1*10^(-E2)+Ka_S1*Ka_S2)-Ntot-K_w/10^(-E2)-Profile!C2*(10^(-E2)+2*K_HSO4)/(10^(-E2)+K_HSO4))>0,1,-1)*7/2^4 | G2: =F2+IF((10^(-F2)+Atot*(H_NH3*(1+K_NH3*10^(-F2)/K_w))*RTL/(1+(H_NH3*(1+K_NH3*10^(-F2)/K_w))*RTL)*(K_NH3*10^(-F2)/K_w)/(1+K_NH3*10^(-F2)/K_w)-Profile!B2*(H_SO2*(1+Ka_S1/10^(-F2)+Ka_S1*Ka_S2/10^(-F2)^2))*RTL/(1+(H_SO2*(1+Ka_S1/10^(-F2)+Ka_S1*Ka_S2/10^(-F2)^2))*RTL)*(Ka_S1*10^(-F2)+2*Ka_S1*Ka_S2)/(10^(-F2)^2+Ka_S1*10^(-F2)+Ka_S1*Ka_S2)-Ntot-K_w/10^(-F2)-Profile!C2*(10^(-F2)+2*K_HSO4)/(10^(-F2)+K_HSO4))>0,1,-1)*7/2^5 | H2: =G2+IF((10^(-G2)+Atot*(H_NH3*(1+K_NH3*10^(-G2)/K_w))*RTL/(1+(H_NH3*(1+K_NH3*10^(-G2)/K_w))*RTL)*(K_NH3*10^(-G2)/K_w)/(1+K_NH3*10^(-G2)/K_w)-Profile!B2*(H_SO2*(1+Ka_S1/10^(-G2)+Ka_S1*Ka_S2/10^(-G2)^2))*RTL/(1+(H_SO2*(1+Ka_S1/10^(-G2)+Ka_S1*Ka_S2/10^(-G2)^2))*RTL)*(Ka_S1*10^(-G2)+2*Ka_S1*Ka_S2)/(10^(-G2)^2+Ka_S1*10^(-G2)+Ka_S1*Ka_S2)-Ntot-K_w/10^(-G2)-Profile!C2*(10^(-G2)+2*K_HSO4)/(10^(-G2)+K_HSO4))>0,1,-1)*7/2^6 | I2: =H2+IF((10^(-H2)+Atot*(H_NH3*(1+K_NH3*10^(-H2)/K_w))*RTL/(1+(H_NH3*(1+K_NH3*10^(-H2)/K_w))*RTL)*(K_NH3*10^(-H2)/K_w)/(1+K_NH3*10^(-H2)/K_w)-Profile!B2*(H_SO2*(1+Ka_S1/10^(-H2)+Ka_S1*Ka_S2/10^(-H2)^2))*RTL/(1+(H_SO2*(1+Ka_S1/10^(-H2)+Ka_S1*Ka_S2/10^(-H2)^2))*RTL)*(Ka_S1*10^(-H2)+2*Ka_S1*Ka_S2)/(10^(-H2)^2+Ka_S1*10^(-H2)+Ka_S1*Ka_S2)-Ntot-K_w/10^(-H2)-Profile!C2*(10^(-H2)+2*K_HSO4)/(10^(-H2)+K_HSO4))>0,1,-1)*7/2^7 | J2: =I2+IF((10^(-I2)+Atot*(H_NH3*(1+K_NH3*10^(-I2)/K_w))*RTL/(1+(H_NH3*(1+K_NH3*10^(-I2)/K_w))*RTL)*(K_NH3*10^(-I2)/K_w)/(1+K_NH3*10^(-I2)/K_w)-Profile!B2*(H_SO2*(1+Ka_S1/10^(-I2)+Ka_S1*Ka_S2/10^(-I2)^2))*RTL/(1+(H_SO2*(1+Ka_S1/10^(-I2)+Ka_S1*Ka_S2/10^(-I2)^2))*RTL)*(Ka_S1*10^(-I2)+2*Ka_S1*Ka_S2)/(10^(-I2)^2+Ka_S1*10^(-I2)+Ka_S1*Ka_S2)-Ntot-K_w/10^(-I2)-Profile!C2*(10^(-I2)+2*K_HSO4)/(10^(-I2)+K_HSO4))>0,1,-1)*7/2^8 | K2: =J2+IF((10^(-J2)+Atot*(H_NH3*(1+K_NH3*10^(-J2)/K_w))*RTL/(1+(H_NH3*(1+K_NH3*10^(-J2)/K_w))*RTL)*(K_NH3*10^(-J2)/K_w)/(1+K_NH3*10^(-J2)/K_w)-Profile!B2*(H_SO2*(1+Ka_S1/10^(-J2)+Ka_S1*Ka_S2/10^(-J2)^2))*RTL/(1+(H_SO2*(1+Ka_S1/10^(-J2)+Ka_S1*Ka_S2/10^(-J2)^2))*RTL)*(Ka_S1*10^(-J2)+2*Ka_S1*Ka_S2)/(10^(-J2)^2+Ka_S1*10^(-J2)+Ka_S1*Ka_S2)-Ntot-K_w/10^(-J2)-Profile!C2*(10^(-J2)+2*K_HSO4)/(10^(-J2)+K_HSO4))>0,1,-1)*7/2^9 | L2: =K2+IF((10^(-K2)+Atot*(H_NH3*(1+K_NH3*10^(-K2)/K_w))*RTL/(1+(H_NH3*(1+K_NH3*10^(-K2)/K_w))*RTL)*(K_NH3*10^(-K2)/K_w)/(1+K_NH3*10^(-K2)/K_w)-Profile!B2*(H_SO2*(1+Ka_S1/10^(-K2)+Ka_S1*Ka_S2/10^(-K2)^2))*RTL/(1+(H_SO2*(1+Ka_S1/10^(-K2)+Ka_S1*Ka_S2/10^(-K2)^2))*RTL)*(Ka_S1*10^(-K2)+2*Ka_S1*Ka_S2)/(10^(-K2)^2+Ka_S1*10^(-K2)+Ka_S1*Ka_S2)-Ntot-K_w/10^(-K2)-Profile!C2*(10^(-K2)+2*K_HSO4)/(10^(-K2)+K_HSO4))>0,1,-1)*7/2^10 | M2: =L2+IF((10^(-L2)+Atot*(H_NH3*(1+K_NH3*10^(-L2)/K_w))*RTL/(1+(H_NH3*(1+K_NH3*10^(-L2)/K_w))*RTL)*(K_NH3*10^(-L2)/K_w)/(1+K_NH3*10^(-L2)/K_w)-Profile!B2*(H_SO2*(1+Ka_S1/10^(-L2)+Ka_S1*Ka_S2/10^(-L2)^2))*RTL/(1+(H_SO2*(1+Ka_S1/10^(-L2)+Ka_S1*Ka_S2/10^(-L2)^2))*RTL)*(Ka_S1*10^(-L2)+2*Ka_S1*Ka_S2)/(10^(-L2)^2+Ka_S1*10^(-L2)+Ka_S1*Ka_S2)-Ntot-K_w/10^(-L2)-Profile!C2*(10^(-L2)+2*K_HSO4)/(10^(-L2)+K_HSO4))>0,1,-1)*7/2^11 | N2: =M2+IF((10^(-M2)+Atot*(H_NH3*(1+K_NH3*10^(-M2)/K_w))*RTL/(1+(H_NH3*(1+K_NH3*10^(-M2)/K_w))*RTL)*(K_NH3*10^(-M2)/K_w)/(1+K_NH3*10^(-M2)/K_w)-Profile!B2*(H_SO2*(1+Ka_S1/10^(-M2)+Ka_S1*Ka_S2/10^(-M2)^2))*RTL/(1+(H_SO2*(1+Ka_S1/10^(-M2)+Ka_S1*Ka_S2/10^(-M2)^2))*RTL)*(Ka_S1*10^(-M2)+2*Ka_S1*Ka_S2)/(10^(-M2)^2+Ka_S1*10^(-M2)+Ka_S1*Ka_S2)-Ntot-K_w/10^(-M2)-Profile!C2*(10^(-M2)+2*K_HSO4)/(10^(-M2)+K_HSO4))>0,1,-1)*7/2^12 | O2: =N2+IF((10^(-N2)+Atot*(H_NH3*(1+K_NH3*10^(-N2)/K_w))*RTL/(1+(H_NH3*(1+K_NH3*10^(-N2)/K_w))*RTL)*(K_NH3*10^(-N2)/K_w)/(1+K_NH3*10^(-N2)/K_w)-Profile!B2*(H_SO2*(1+Ka_S1/10^(-N2)+Ka_S1*Ka_S2/10^(-N2)^2))*RTL/(1+(H_SO2*(1+Ka_S1/10^(-N2)+Ka_S1*Ka_S2/10^(-N2)^2))*RTL)*(Ka_S1*10^(-N2)+2*Ka_S1*Ka_S2)/(10^(-N2)^2+Ka_S1*10^(-N2)+Ka_S1*Ka_S2)-Ntot-K_w/10^(-N2)-Profile!C2*(10^(-N2)+2*K_HSO4)/(10^(-N2)+K_HSO4))>0,1,-1)*7/2^13 | P2: =O2+IF((10^(-O2)+Atot*(H_NH3*(1+K_NH3*10^(-O2)/K_w))*RTL/(1+(H_NH3*(1+K_NH3*10^(-O2)/K_w))*RTL)*(K_NH3*10^(-O2)/K_w)/(1+K_NH3*10^(-O2)/K_w)-Profile!B2*(H_SO2*(1+Ka_S1/10^(-O2)+Ka_S1*Ka_S2/10^(-O2)^2))*RTL/(1+(H_SO2*(1+Ka_S1/10^(-O2)+Ka_S1*Ka_S2/10^(-O2)^2))*RTL)*(Ka_S1*10^(-O2)+2*Ka_S1*Ka_S2)/(10^(-O2)^2+Ka_S1*10^(-O2)+Ka_S1*Ka_S2)-Ntot-K_w/10^(-O2)-Profile!C2*(10^(-O2)+2*K_HSO4)/(10^(-O2)+K_HSO4))>0,1,-1)*7/2^14 | Q2: =P2+IF((10^(-P2)+Atot*(H_NH3*(1+K_NH3*10^(-P2)/K_w))*RTL/(1+(H_NH3*(1+K_NH3*10^(-P2)/K_w))*RTL)*(K_NH3*10^(-P2)/K_w)/(1+K_NH3*10^(-P2)/K_w)-Profile!B2*(H_SO2*(1+Ka_S1/10^(-P2)+Ka_S1*Ka_S2/10^(-P2)^2))*RTL/(1+(H_SO2*(1+Ka_S1/10^(-P2)+Ka_S1*Ka_S2/10^(-P2)^2))*RTL)*(Ka_S1*10^(-P2)+2*Ka_S1*Ka_S2)/(10^(-P2)^2+Ka_S1*10^(-P2)+Ka_S1*Ka_S2)-Ntot-K_w/10^(-P2)-Profile!C2*(10^(-P2)+2*K_HSO4)/(10^(-P2)+K_HSO4))>0,1,-1)*7/2^15 | R2: =Q2+IF((10^(-Q2)+Atot*(H_NH3*(1+K_NH3*10^(-Q2)/K_w))*RTL/(1+(H_NH3*(1+K_NH3*10^(-Q2)/K_w))*RTL)*(K_NH3*10^(-Q2)/K_w)/(1+K_NH3*10^(-Q2)/K_w)-Profile!B2*(H_SO2*(1+Ka_S1/10^(-Q2)+Ka_S1*Ka_S2/10^(-Q2)^2))*RTL/(1+(H_SO2*(1+Ka_S1/10^(-Q2)+Ka_S1*Ka_S2/10^(-Q2)^2))*RTL)*(Ka_S1*10^(-Q2)+2*Ka_S1*Ka_S2)/(10^(-Q2)^2+Ka_S1*10^(-Q2)+Ka_S1*Ka_S2)-Ntot-K_w/10^(-Q2)-Profile!C2*(10^(-Q2)+2*K_HSO4)/(10^(-Q2)+K_HSO4))>0,1,-1)*7/2^16 | S2: =R2+IF((10^(-R2)+Atot*(H_NH3*(1+K_NH3*10^(-R2)/K_w))*RTL/(1+(H_NH3*(1+K_NH3*10^(-R2)/K_w))*RTL)*(K_NH3*10^(-R2)/K_w)/(1+K_NH3*10^(-R2)/K_w)-Profile!B2*(H_SO2*(1+Ka_S1/10^(-R2)+Ka_S1*Ka_S2/10^(-R2)^2))*RTL/(1+(H_SO2*(1+Ka_S1/10^(-R2)+Ka_S1*Ka_S2/10^(-R2)^2))*RTL)*(Ka_S1*10^(-R2)+2*Ka_S1*Ka_S2)/(10^(-R2)^2+Ka_S1*10^(-R2)+Ka_S1*Ka_S2)-Ntot-K_w/10^(-R2)-Profile!C2*(10^(-R2)+2*K_HSO4)/(10^(-R2)+K_HSO4))>0,1,-1)*7/2^17 | T2: =S2+IF((10^(-S2)+Atot*(H_NH3*(1+K_NH3*10^(-S2)/K_w))*RTL/(1+(H_NH3*(1+K_NH3*10^(-S2)/K_w))*RTL)*(K_NH3*10^(-S2)/K_w)/(1+K_NH3*10^(-S2)/K_w)-Profile!B2*(H_SO2*(1+Ka_S1/10^(-S2)+Ka_S1*Ka_S2/10^(-S2)^2))*RTL/(1+(H_SO2*(1+Ka_S1/10^(-S2)+Ka_S1*Ka_S2/10^(-S2)^2))*RTL)*(Ka_S1*10^(-S2)+2*Ka_S1*Ka_S2)/(10^(-S2)^2+Ka_S1*10^(-S2)+Ka_S1*Ka_S2)-Ntot-K_w/10^(-S2)-Profile!C2*(10^(-S2)+2*K_HSO4)/(10^(-S2)+K_HSO4))>0,1,-1)*7/2^18 | U2: =T2+IF((10^(-T2)+Atot*(H_NH3*(1+K_NH3*10^(-T2)/K_w))*RTL/(1+(H_NH3*(1+K_NH3*10^(-T2)/K_w))*RTL)*(K_NH3*10^(-T2)/K_w)/(1+K_NH3*10^(-T2)/K_w)-Profile!B2*(H_SO2*(1+Ka_S1/10^(-T2)+Ka_S1*Ka_S2/10^(-T2)^2))*RTL/(1+(H_SO2*(1+Ka_S1/10^(-T2)+Ka_S1*Ka_S2/10^(-T2)^2))*RTL)*(Ka_S1*10^(-T2)+2*Ka_S1*Ka_S2)/(10^(-T2)^2+Ka_S1*10^(-T2)+Ka_S1*Ka_S2)-Ntot-K_w/10^(-T2)-Profile!C2*(10^(-T2)+2*K_HSO4)/(10^(-T2)+K_HSO4))>0,1,-1)*7/2^19 | V2: =U2+IF((10^(-U2)+Atot*(H_NH3*(1+K_NH3*10^(-U2)/K_w))*RTL/(1+(H_NH3*(1+K_NH3*10^(-U2)/K_w))*RTL)*(K_NH3*10^(-U2)/K_w)/(1+K_NH3*10^(-U2)/K_w)-Profile!B2*(H_SO2*(1+Ka_S1/10^(-U2)+Ka_S1*Ka_S2/10^(-U2)^2))*RTL/(1+(H_SO2*(1+Ka_S1/10^(-U2)+Ka_S1*Ka_S2/10^(-U2)^2))*RTL)*(Ka_S1*10^(-U2)+2*Ka_S1*Ka_S2)/(10^(-U2)^2+Ka_S1*10^(-U2)+Ka_S1*Ka_S2)-Ntot-K_w/10^(-U2)-Profile!C2*(10^(-U2)+2*K_HSO4)/(10^(-U2)+K_HSO4))>0,1,-1)*7/2^20 | W2: =V2+IF((10^(-V2)+Atot*(H_NH3*(1+K_NH3*10^(-V2)/K_w))*RTL/(1+(H_NH3*(1+K_NH3*10^(-V2)/K_w))*RTL)*(K_NH3*10^(-V2)/K_w)/(1+K_NH3*10^(-V2)/K_w)-Profile!B2*(H_SO2*(1+Ka_S1/10^(-V2)+Ka_S1*Ka_S2/10^(-V2)^2))*RTL/(1+(H_SO2*(1+Ka_S1/10^(-V2)+Ka_S1*Ka_S2/10^(-V2)^2))*RTL)*(Ka_S1*10^(-V2)+2*Ka_S1*Ka_S2)/(10^(-V2)^2+Ka_S1*10^(-V2)+Ka_S1*Ka_S2)-Ntot-K_w/10^(-V2)-Profile!C2*(10^(-V2)+2*K_HSO4)/(10^(-V2)+K_HSO4))>0,1,-1)*7/2^21 | X2: =W2+IF((10^(-W2)+Atot*(H_NH3*(1+K_NH3*10^(-W2)/K_w))*RTL/(1+(H_NH3*(1+K_NH3*10^(-W2)/K_w))*RTL)*(K_NH3*10^(-W2)/K_w)/(1+K_NH3*10^(-W2)/K_w)-Profile!B2*(H_SO2*(1+Ka_S1/10^(-W2)+Ka_S1*Ka_S2/10^(-W2)^2))*RTL/(1+(H_SO2*(1+Ka_S1/10^(-W2)+Ka_S1*Ka_S2/10^(-W2)^2))*RTL)*(Ka_S1*10^(-W2)+2*Ka_S1*Ka_S2)/(10^(-W2)^2+Ka_S1*10^(-W2)+Ka_S1*Ka_S2)-Ntot-K_w/10^(-W2)-Profile!C2*(10^(-W2)+2*K_HSO4)/(10^(-W2)+K_HSO4))>0,1,-1)*7/2^22 | Y2: =X2+IF((10^(-X2)+Atot*(H_NH3*(1+K_NH3*10^(-X2)/K_w))*RTL/(1+(H_NH3*(1+K_NH3*10^(-X2)/K_w))*RTL)*(K_NH3*10^(-X2)/K_w)/(1+K_NH3*10^(-X2)/K_w)-Profile!B2*(H_SO2*(1+Ka_S1/10^(-X2)+Ka_S1*Ka_S2/10^(-X2)^2))*RTL/(1+(H_SO2*(1+Ka_S1/10^(-X2)+Ka_S1*Ka_S2/10^(-X2)^2))*RTL)*(Ka_S1*10^(-X2)+2*Ka_S1*Ka_S2)/(10^(-X2)^2+Ka_S1*10^(-X2)+Ka_S1*Ka_S2)-Ntot-K_w/10^(-X2)-Profile!C2*(10^(-X2)+2*K_HSO4)/(10^(-X2)+K_HSO4))>0,1,-1)*7/2^23 | Z2: =Y2+IF((10^(-Y2)+Atot*(H_NH3*(1+K_NH3*10^(-Y2)/K_w))*RTL/(1+(H_NH3*(1+K_NH3*10^(-Y2)/K_w))*RTL)*(K_NH3*10^(-Y2)/K_w)/(1+K_NH3*10^(-Y2)/K_w)-Profile!B2*(H_SO2*(1+Ka_S1/10^(-Y2)+Ka_S1*Ka_S2/10^(-Y2)^2))*RTL/(1+(H_SO2*(1+Ka_S1/10^(-Y2)+Ka_S1*Ka_S2/10^(-Y2)^2))*RTL)*(Ka_S1*10^(-Y2)+2*Ka_S1*Ka_S2)/(10^(-Y2)^2+Ka_S1*10^(-Y2)+Ka_S1*Ka_S2)-Ntot-K_w/10^(-Y2)-Profile!C2*(10^(-Y2)+2*K_HSO4)/(10^(-Y2)+K_HSO4))>0,1,-1)*7/2^24 | AA2: =Z2+IF((10^(-Z2)+Atot*(H_NH3*(1+K_NH3*10^(-Z2)/K_w))*RTL/(1+(H_NH3*(1+K_NH3*10^(-Z2)/K_w))*RTL)*(K_NH3*10^(-Z2)/K_w)/(1+K_NH3*10^(-Z2)/K_w)-Profile!B2*(H_SO2*(1+Ka_S1/10^(-Z2)+Ka_S1*Ka_S2/10^(-Z2)^2))*RTL/(1+(H_SO2*(1+Ka_S1/10^(-Z2)+Ka_S1*Ka_S2/10^(-Z2)^2))*RTL)*(Ka_S1*10^(-Z2)+2*Ka_S1*Ka_S2)/(10^(-Z2)^2+Ka_S1*10^(-Z2)+Ka_S1*Ka_S2)-Ntot-K_w/10^(-Z2)-Profile!C2*(10^(-Z2)+2*K_HSO4)/(10^(-Z2)+K_HSO4))>0,1,-1)*7/2^25 | AB2: =AA2+IF((10^(-AA2)+Atot*(H_NH3*(1+K_NH3*10^(-AA2)/K_w))*RTL/(1+(H_NH3*(1+K_NH3*10^(-AA2)/K_w))*RTL)*(K_NH3*10^(-AA2)/K_w)/(1+K_NH3*10^(-AA2)/K_w)-Profile!B2*(H_SO2*(1+Ka_S1/10^(-AA2)+Ka_S1*Ka_S2/10^(-AA2)^2))*RTL/(1+(H_SO2*(1+Ka_S1/10^(-AA2)+Ka_S1*Ka_S2/10^(-AA2)^2))*RTL)*(Ka_S1*10^(-AA2)+2*Ka_S1*Ka_S2)/(10^(-AA2)^2+Ka_S1*10^(-AA2)+Ka_S1*Ka_S2)-Ntot-K_w/10^(-AA2)-Profile!C2*(10^(-AA2)+2*K_HSO4)/(10^(-AA2)+K_HSO4))>0,1,-1)*7/2^26 | AC2: =AB2+IF((10^(-AB2)+Atot*(H_NH3*(1+K_NH3*10^(-AB2)/K_w))*RTL/(1+(H_NH3*(1+K_NH3*10^(-AB2)/K_w))*RTL)*(K_NH3*10^(-AB2)/K_w)/(1+K_NH3*10^(-AB2)/K_w)-Profile!B2*(H_SO2*(1+Ka_S1/10^(-AB2)+Ka_S1*Ka_S2/10^(-AB2)^2))*RTL/(1+(H_SO2*(1+Ka_S1/10^(-AB2)+Ka_S1*Ka_S2/10^(-AB2)^2))*RTL)*(Ka_S1*10^(-AB2)+2*Ka_S1*Ka_S2)/(10^(-AB2)^2+Ka_S1*10^(-AB2)+Ka_S1*Ka_S2)-Ntot-K_w/10^(-AB2)-Profile!C2*(10^(-AB2)+2*K_HSO4)/(10^(-AB2)+K_HSO4))>0,1,-1)*7/2^27 | AD2: =AC2+IF((10^(-AC2)+Atot*(H_NH3*(1+K_NH3*10^(-AC2)/K_w))*RTL/(1+(H_NH3*(1+K_NH3*10^(-AC2)/K_w))*RTL)*(K_NH3*10^(-AC2)/K_w)/(1+K_NH3*10^(-AC2)/K_w)-Profile!B2*(H_SO2*(1+Ka_S1/10^(-AC2)+Ka_S1*Ka_S2/10^(-AC2)^2))*RTL/(1+(H_SO2*(1+Ka_S1/10^(-AC2)+Ka_S1*Ka_S2/10^(-AC2)^2))*RTL)*(Ka_S1*10^(-AC2)+2*Ka_S1*Ka_S2)/(10^(-AC2)^2+Ka_S1*10^(-AC2)+Ka_S1*Ka_S2)-Ntot-K_w/10^(-AC2)-Profile!C2*(10^(-AC2)+2*K_HSO4)/(10^(-AC2)+K_HSO4))>0,1,-1)*7/2^28 | AE2: =AD2+IF((10^(-AD2)+Atot*(H_NH3*(1+K_NH3*10^(-AD2)/K_w))*RTL/(1+(H_NH3*(1+K_NH3*10^(-AD2)/K_w))*RTL)*(K_NH3*10^(-AD2)/K_w)/(1+K_NH3*10^(-AD2)/K_w)-Profile!B2*(H_SO2*(1+Ka_S1/10^(-AD2)+Ka_S1*Ka_S2/10^(-AD2)^2))*RTL/(1+(H_SO2*(1+Ka_S1/10^(-AD2)+Ka_S1*Ka_S2/10^(-AD2)^2))*RTL)*(Ka_S1*10^(-AD2)+2*Ka_S1*Ka_S2)/(10^(-AD2)^2+Ka_S1*10^(-AD2)+Ka_S1*Ka_S2)-Ntot-K_w/10^(-AD2)-Profile!C2*(10^(-AD2)+2*K_HSO4)/(10^(-AD2)+K_HSO4))>0,1,-1)*7/2^29 | AF2: =AE2+IF((10^(-AE2)+Atot*(H_NH3*(1+K_NH3*10^(-AE2)/K_w))*RTL/(1+(H_NH3*(1+K_NH3*10^(-AE2)/K_w))*RTL)*(K_NH3*10^(-AE2)/K_w)/(1+K_NH3*10^(-AE2)/K_w)-Profile!B2*(H_SO2*(1+Ka_S1/10^(-AE2)+Ka_S1*Ka_S2/10^(-AE2)^2))*RTL/(1+(H_SO2*(1+Ka_S1/10^(-AE2)+Ka_S1*Ka_S2/10^(-AE2)^2))*RTL)*(Ka_S1*10^(-AE2)+2*Ka_S1*Ka_S2)/(10^(-AE2)^2+Ka_S1*10^(-AE2)+Ka_S1*Ka_S2)-Ntot-K_w/10^(-AE2)-Profile!C2*(10^(-AE2)+2*K_HSO4)/(10^(-AE2)+K_HSO4))>0,1,-1)*7/2^30 | AG2: =AF2+IF((10^(-AF2)+Atot*(H_NH3*(1+K_NH3*10^(-AF2)/K_w))*RTL/(1+(H_NH3*(1+K_NH3*10^(-AF2)/K_w))*RTL)*(K_NH3*10^(-AF2)/K_w)/(1+K_NH3*10^(-AF2)/K_w)-Profile!B2*(H_SO2*(1+Ka_S1/10^(-AF2)+Ka_S1*Ka_S2/10^(-AF2)^2))*RTL/(1+(H_SO2*(1+Ka_S1/10^(-AF2)+Ka_S1*Ka_S2/10^(-AF2)^2))*RTL)*(Ka_S1*10^(-AF2)+2*Ka_S1*Ka_S2)/(10^(-AF2)^2+Ka_S1*10^(-AF2)+Ka_S1*Ka_S2)-Ntot-K_w/10^(-AF2)-Profile!C2*(10^(-AF2)+2*K_HSO4)/(10^(-AF2)+K_HSO4))>0,1,-1)*7/2^31 | AH2: =AG2+IF((10^(-AG2)+Atot*(H_NH3*(1+K_NH3*10^(-AG2)/K_w))*RTL/(1+(H_NH3*(1+K_NH3*10^(-AG2)/K_w))*RTL)*(K_NH3*10^(-AG2)/K_w)/(1+K_NH3*10^(-AG2)/K_w)-Profile!B2*(H_SO2*(1+Ka_S1/10^(-AG2)+Ka_S1*Ka_S2/10^(-AG2)^2))*RTL/(1+(H_SO2*(1+Ka_S1/10^(-AG2)+Ka_S1*Ka_S2/10^(-AG2)^2))*RTL)*(Ka_S1*10^(-AG2)+2*Ka_S1*Ka_S2)/(10^(-AG2)^2+Ka_S1*10^(-AG2)+Ka_S1*Ka_S2)-Ntot-K_w/10^(-AG2)-Profile!C2*(10^(-AG2)+2*K_HSO4)/(10^(-AG2)+K_HSO4))>0,1,-1)*7/2^32 | AI2: =AH2+IF((10^(-AH2)+Atot*(H_NH3*(1+K_NH3*10^(-AH2)/K_w))*RTL/(1+(H_NH3*(1+K_NH3*10^(-AH2)/K_w))*RTL)*(K_NH3*10^(-AH2)/K_w)/(1+K_NH3*10^(-AH2)/K_w)-Profile!B2*(H_SO2*(1+Ka_S1/10^(-AH2)+Ka_S1*Ka_S2/10^(-AH2)^2))*RTL/(1+(H_SO2*(1+Ka_S1/10^(-AH2)+Ka_S1*Ka_S2/10^(-AH2)^2))*RTL)*(Ka_S1*10^(-AH2)+2*Ka_S1*Ka_S2)/(10^(-AH2)^2+Ka_S1*10^(-AH2)+Ka_S1*Ka_S2)-Ntot-K_w/10^(-AH2)-Profile!C2*(10^(-AH2)+2*K_HSO4)/(10^(-AH2)+K_HSO4))>0,1,-1)*7/2^33 | AJ2: =AI2+IF((10^(-AI2)+Atot*(H_NH3*(1+K_NH3*10^(-AI2)/K_w))*RTL/(1+(H_NH3*(1+K_NH3*10^(-AI2)/K_w))*RTL)*(K_NH3*10^(-AI2)/K_w)/(1+K_NH3*10^(-AI2)/K_w)-Profile!B2*(H_SO2*(1+Ka_S1/10^(-AI2)+Ka_S1*Ka_S2/10^(-AI2)^2))*RTL/(1+(H_SO2*(1+Ka_S1/10^(-AI2)+Ka_S1*Ka_S2/10^(-AI2)^2))*RTL)*(Ka_S1*10^(-AI2)+2*Ka_S1*Ka_S2)/(10^(-AI2)^2+Ka_S1*10^(-AI2)+Ka_S1*Ka_S2)-Ntot-K_w/10^(-AI2)-Profile!C2*(10^(-AI2)+2*K_HSO4)/(10^(-AI2)+K_HSO4))>0,1,-1)*7/2^34 | AK2: =AJ2+IF((10^(-AJ2)+Atot*(H_NH3*(1+K_NH3*10^(-AJ2)/K_w))*RTL/(1+(H_NH3*(1+K_NH3*10^(-AJ2)/K_w))*RTL)*(K_NH3*10^(-AJ2)/K_w)/(1+K_NH3*10^(-AJ2)/K_w)-Profile!B2*(H_SO2*(1+Ka_S1/10^(-AJ2)+Ka_S1*Ka_S2/10^(-AJ2)^2))*RTL/(1+(H_SO2*(1+Ka_S1/10^(-AJ2)+Ka_S1*Ka_S2/10^(-AJ2)^2))*RTL)*(Ka_S1*10^(-AJ2)+2*Ka_S1*Ka_S2)/(10^(-AJ2)^2+Ka_S1*10^(-AJ2)+Ka_S1*Ka_S2)-Ntot-K_w/10^(-AJ2)-Profile!C2*(10^(-AJ2)+2*K_HSO4)/(10^(-AJ2)+K_HSO4))>0,1,-1)*7/2^35 | AL2: =AK2+IF((10^(-AK2)+Atot*(H_NH3*(1+K_NH3*10^(-AK2)/K_w))*RTL/(1+(H_NH3*(1+K_NH3*10^(-AK2)/K_w))*RTL)*(K_NH3*10^(-AK2)/K_w)/(1+K_NH3*10^(-AK2)/K_w)-Profile!B2*(H_SO2*(1+Ka_S1/10^(-AK2)+Ka_S1*Ka_S2/10^(-AK2)^2))*RTL/(1+(H_SO2*(1+Ka_S1/10^(-AK2)+Ka_S1*Ka_S2/10^(-AK2)^2))*RTL)*(Ka_S1*10^(-AK2)+2*Ka_S1*Ka_S2)/(10^(-AK2)^2+Ka_S1*10^(-AK2)+Ka_S1*Ka_S2)-Ntot-K_w/10^(-AK2)-Profile!C2*(10^(-AK2)+2*K_HSO4)/(10^(-AK2)+K_HSO4))>0,1,-1)*7/2^36
A3: =Profile!A3 | B3: 7 | C3: =B3+IF((10^(-B3)+Atot*(H_NH3*(1+K_NH3*10^(-B3)/K_w))*RTL/(1+(H_NH3*(1+K_NH3*10^(-B3)/K_w))*RTL)*(K_NH3*10^(-B3)/K_w)/(1+K_NH3*10^(-B3)/K_w)-Profile!B3*(H_SO2*(1+Ka_S1/10^(-B3)+Ka_S1*Ka_S2/10^(-B3)^2))*RTL/(1+(H_SO2*(1+Ka_S1/10^(-B3)+Ka_S1*Ka_S2/10^(-B3)^2))*RTL)*(Ka_S1*10^(-B3)+2*Ka_S1*Ka_S2)/(10^(-B3)^2+Ka_S1*10^(-B3)+Ka_S1*Ka_S2)-Ntot-K_w/10^(-B3)-Profile!C3*(10^(-B3)+2*K_HSO4)/(10^(-B3)+K_HSO4))>0,1,-1)*7/2^1 | D3: =C3+IF((10^(-C3)+Atot*(H_NH3*(1+K_NH3*10^(-C3)/K_w))*RTL/(1+(H_NH3*(1+K_NH3*10^(-C3)/K_w))*RTL)*(K_NH3*10^(-C3)/K_w)/(1+K_NH3*10^(-C3)/K_w)-Profile!B3*(H_SO2*(1+Ka_S1/10^(-C3)+Ka_S1*Ka_S2/10^(-C3)^2))*RTL/(1+(H_SO2*(1+Ka_S1/10^(-C3)+Ka_S1*Ka_S2/10^(-C3)^2))*RTL)*(Ka_S1*10^(-C3)+2*Ka_S1*Ka_S2)/(10^(-C3)^2+Ka_S1*10^(-C3)+Ka_S1*Ka_S2)-Ntot-K_w/10^(-C3)-Profile!C3*(10^(-C3)+2*K_HSO4)/(10^(-C3)+K_HSO4))>0,1,-1)*7/2^2 | E3: =D3+IF((10^(-D3)+Atot*(H_NH3*(1+K_NH3*10^(-D3)/K_w))*RTL/(1+(H_NH3*(1+K_NH3*10^(-D3)/K_w))*RTL)*(K_NH3*10^(-D3)/K_w)/(1+K_NH3*10^(-D3)/K_w)-Profile!B3*(H_SO2*(1+Ka_S1/10^(-D3)+Ka_S1*Ka_S2/10^(-D3)^2))*RTL/(1+(H_SO2*(1+Ka_S1/10^(-D3)+Ka_S1*Ka_S2/10^(-D3)^2))*RTL)*(Ka_S1*10^(-D3)+2*Ka_S1*Ka_S2)/(10^(-D3)^2+Ka_S1*10^(-D3)+Ka_S1*Ka_S2)-Ntot-K_w/10^(-D3)-Profile!C3*(10^(-D3)+2*K_HSO4)/(10^(-D3)+K_HSO4))>0,1,-1)*7/2^3 | F3: =E3+IF((10^(-E3)+Atot*(H_NH3*(1+K_NH3*10^(-E3)/K_w))*RTL/(1+(H_NH3*(1+K_NH3*10^(-E3)/K_w))*RTL)*(K_NH3*10^(-E3)/K_w)/(1+K_NH3*10^(-E3)/K_w)-Profile!B3*(H_SO2*(1+Ka_S1/10^(-E3)+Ka_S1*Ka_S2/10^(-E3)^2))*RTL/(1+(H_SO2*(1+Ka_S1/10^(-E3)+Ka_S1*Ka_S2/10^(-E3)^2))*RTL)*(Ka_S1*10^(-E3)+2*Ka_S1*Ka_S2)/(10^(-E3)^2+Ka_S1*10^(-E3)+Ka_S1*Ka_S2)-Ntot-K_w/10^(-E3)-Profile!C3*(10^(-E3)+2*K_HSO4)/(10^(-E3)+K_HSO4))>0,1,-1)*7/2^4 | G3: =F3+IF((10^(-F3)+Atot*(H_NH3*(1+K_NH3*10^(-F3)/K_w))*RTL/(1+(H_NH3*(1+K_NH3*10^(-F3)/K_w))*RTL)*(K_NH3*10^(-F3)/K_w)/(1+K_NH3*10^(-F3)/K_w)-Profile!B3*(H_SO2*(1+Ka_S1/10^(-F3)+Ka_S1*Ka_S2/10^(-F3)^2))*RTL/(1+(H_SO2*(1+Ka_S1/10^(-F3)+Ka_S1*Ka_S2/10^(-F3)^2))*RTL)*(Ka_S1*10^(-F3)+2*Ka_S1*Ka_S2)/(10^(-F3)^2+Ka_S1*10^(-F3)+Ka_S1*Ka_S2)-Ntot-K_w/10^(-F3)-Profile!C3*(10^(-F3)+2*K_HSO4)/(10^(-F3)+K_HSO4))>0,1,-1)*7/2^5 | H3: =G3+IF((10^(-G3)+Atot*(H_NH3*(1+K_NH3*10^(-G3)/K_w))*RTL/(1+(H_NH3*(1+K_NH3*10^(-G3)/K_w))*RTL)*(K_NH3*10^(-G3)/K_w)/(1+K_NH3*10^(-G3)/K_w)-Profile!B3*(H_SO2*(1+Ka_S1/10^(-G3)+Ka_S1*Ka_S2/10^(-G3)^2))*RTL/(1+(H_SO2*(1+Ka_S1/10^(-G3)+Ka_S1*Ka_S2/10^(-G3)^2))*RTL)*(Ka_S1*10^(-G3)+2*Ka_S1*Ka_S2)/(10^(-G3)^2+Ka_S1*10^(-G3)+Ka_S1*Ka_S2)-Ntot-K_w/10^(-G3)-Profile!C3*(10^(-G3)+2*K_HSO4)/(10^(-G3)+K_HSO4))>0,1,-1)*7/2^6 | I3: =H3+IF((10^(-H3)+Atot*(H_NH3*(1+K_NH3*10^(-H3)/K_w))*RTL/(1+(H_NH3*(1+K_NH3*10^(-H3)/K_w))*RTL)*(K_NH3*10^(-H3)/K_w)/(1+K_NH3*10^(-H3)/K_w)-Profile!B3*(H_SO2*(1+Ka_S1/10^(-H3)+Ka_S1*Ka_S2/10^(-H3)^2))*RTL/(1+(H_SO2*(1+Ka_S1/10^(-H3)+Ka_S1*Ka_S2/10^(-H3)^2))*RTL)*(Ka_S1*10^(-H3)+2*Ka_S1*Ka_S2)/(10^(-H3)^2+Ka_S1*10^(-H3)+Ka_S1*Ka_S2)-Ntot-K_w/10^(-H3)-Profile!C3*(10^(-H3)+2*K_HSO4)/(10^(-H3)+K_HSO4))>0,1,-1)*7/2^7 | J3: =I3+IF((10^(-I3)+Atot*(H_NH3*(1+K_NH3*10^(-I3)/K_w))*RTL/(1+(H_NH3*(1+K_NH3*10^(-I3)/K_w))*RTL)*(K_NH3*10^(-I3)/K_w)/(1+K_NH3*10^(-I3)/K_w)-Profile!B3*(H_SO2*(1+Ka_S1/10^(-I3)+Ka_S1*Ka_S2/10^(-I3)^2))*RTL/(1+(H_SO2*(1+Ka_S1/10^(-I3)+Ka_S1*Ka_S2/10^(-I3)^2))*RTL)*(Ka_S1*10^(-I3)+2*Ka_S1*Ka_S2)/(10^(-I3)^2+Ka_S1*10^(-I3)+Ka_S1*Ka_S2)-Ntot-K_w/10^(-I3)-Profile!C3*(10^(-I3)+2*K_HSO4)/(10^(-I3)+K_HSO4))>0,1,-1)*7/2^8 | K3: =J3+IF((10^(-J3)+Atot*(H_NH3*(1+K_NH3*10^(-J3)/K_w))*RTL/(1+(H_NH3*(1+K_NH3*10^(-J3)/K_w))*RTL)*(K_NH3*10^(-J3)/K_w)/(1+K_NH3*10^(-J3)/K_w)-Profile!B3*(H_SO2*(1+Ka_S1/10^(-J3)+Ka_S1*Ka_S2/10^(-J3)^2))*RTL/(1+(H_SO2*(1+Ka_S1/10^(-J3)+Ka_S1*Ka_S2/10^(-J3)^2))*RTL)*(Ka_S1*10^(-J3)+2*Ka_S1*Ka_S2)/(10^(-J3)^2+Ka_S1*10^(-J3)+Ka_S1*Ka_S2)-Ntot-K_w/10^(-J3)-Profile!C3*(10^(-J3)+2*K_HSO4)/(10^(-J3)+K_HSO4))>0,1,-1)*7/2^9 | L3: =K3+IF((10^(-K3)+Atot*(H_NH3*(1+K_NH3*10^(-K3)/K_w))*RTL/(1+(H_NH3*(1+K_NH3*10^(-K3)/K_w))*RTL)*(K_NH3*10^(-K3)/K_w)/(1+K_NH3*10^(-K3)/K_w)-Profile!B3*(H_SO2*(1+Ka_S1/10^(-K3)+Ka_S1*Ka_S2/10^(-K3)^2))*RTL/(1+(H_SO2*(1+Ka_S1/10^(-K3)+Ka_S1*Ka_S2/10^(-K3)^2))*RTL)*(Ka_S1*10^(-K3)+2*Ka_S1*Ka_S2)/(10^(-K3)^2+Ka_S1*10^(-K3)+Ka_S1*Ka_S2)-Ntot-K_w/10^(-K3)-Profile!C3*(10^(-K3)+2*K_HSO4)/(10^(-K3)+K_HSO4))>0,1,-1)*7/2^10 | M3: =L3+IF((10^(-L3)+Atot*(H_NH3*(1+K_NH3*10^(-L3)/K_w))*RTL/(1+(H_NH3*(1+K_NH3*10^(-L3)/K_w))*RTL)*(K_NH3*10^(-L3)/K_w)/(1+K_NH3*10^(-L3)/K_w)-Profile!B3*(H_SO2*(1+Ka_S1/10^(-L3)+Ka_S1*Ka_S2/10^(-L3)^2))*RTL/(1+(H_SO2*(1+Ka_S1/10^(-L3)+Ka_S1*Ka_S2/10^(-L3)^2))*RTL)*(Ka_S1*10^(-L3)+2*Ka_S1*Ka_S2)/(10^(-L3)^2+Ka_S1*10^(-L3)+Ka_S1*Ka_S2)-Ntot-K_w/10^(-L3)-Profile!C3*(10^(-L3)+2*K_HSO4)/(10^(-L3)+K_HSO4))>0,1,-1)*7/2^11 | N3: =M3+IF((10^(-M3)+Atot*(H_NH3*(1+K_NH3*10^(-M3)/K_w))*RTL/(1+(H_NH3*(1+K_NH3*10^(-M3)/K_w))*RTL)*(K_NH3*10^(-M3)/K_w)/(1+K_NH3*10^(-M3)/K_w)-Profile!B3*(H_SO2*(1+Ka_S1/10^(-M3)+Ka_S1*Ka_S2/10^(-M3)^2))*RTL/(1+(H_SO2*(1+Ka_S1/10^(-M3)+Ka_S1*Ka_S2/10^(-M3)^2))*RTL)*(Ka_S1*10^(-M3)+2*Ka_S1*Ka_S2)/(10^(-M3)^2+Ka_S1*10^(-M3)+Ka_S1*Ka_S2)-Ntot-K_w/10^(-M3)-Profile!C3*(10^(-M3)+2*K_HSO4)/(10^(-M3)+K_HSO4))>0,1,-1)*7/2^12 | O3: =N3+IF((10^(-N3)+Atot*(H_NH3*(1+K_NH3*10^(-N3)/K_w))*RTL/(1+(H_NH3*(1+K_NH3*10^(-N3)/K_w))*RTL)*(K_NH3*10^(-N3)/K_w)/(1+K_NH3*10^(-N3)/K_w)-Profile!B3*(H_SO2*(1+Ka_S1/10^(-N3)+Ka_S1*Ka_S2/10^(-N3)^2))*RTL/(1+(H_SO2*(1+Ka_S1/10^(-N3)+Ka_S1*Ka_S2/10^(-N3)^2))*RTL)*(Ka_S1*10^(-N3)+2*Ka_S1*Ka_S2)/(10^(-N3)^2+Ka_S1*10^(-N3)+Ka_S1*Ka_S2)-Ntot-K_w/10^(-N3)-Profile!C3*(10^(-N3)+2*K_HSO4)/(10^(-N3)+K_HSO4))>0,1,-1)*7/2^13 | P3: =O3+IF((10^(-O3)+Atot*(H_NH3*(1+K_NH3*10^(-O3)/K_w))*RTL/(1+(H_NH3*(1+K_NH3*10^(-O3)/K_w))*RTL)*(K_NH3*10^(-O3)/K_w)/(1+K_NH3*10^(-O3)/K_w)-Profile!B3*(H_SO2*(1+Ka_S1/10^(-O3)+Ka_S1*Ka_S2/10^(-O3)^2))*RTL/(1+(H_SO2*(1+Ka_S1/10^(-O3)+Ka_S1*Ka_S2/10^(-O3)^2))*RTL)*(Ka_S1*10^(-O3)+2*Ka_S1*Ka_S2)/(10^(-O3)^2+Ka_S1*10^(-O3)+Ka_S1*Ka_S2)-Ntot-K_w/10^(-O3)-Profile!C3*(10^(-O3)+2*K_HSO4)/(10^(-O3)+K_HSO4))>0,1,-1)*7/2^14 | Q3: =P3+IF((10^(-P3)+Atot*(H_NH3*(1+K_NH3*10^(-P3)/K_w))*RTL/(1+(H_NH3*(1+K_NH3*10^(-P3)/K_w))*RTL)*(K_NH3*10^(-P3)/K_w)/(1+K_NH3*10^(-P3)/K_w)-Profile!B3*(H_SO2*(1+Ka_S1/10^(-P3)+Ka_S1*Ka_S2/10^(-P3)^2))*RTL/(1+(H_SO2*(1+Ka_S1/10^(-P3)+Ka_S1*Ka_S2/10^(-P3)^2))*RTL)*(Ka_S1*10^(-P3)+2*Ka_S1*Ka_S2)/(10^(-P3)^2+Ka_S1*10^(-P3)+Ka_S1*Ka_S2)-Ntot-K_w/10^(-P3)-Profile!C3*(10^(-P3)+2*K_HSO4)/(10^(-P3)+K_HSO4))>0,1,-1)*7/2^15 | R3: =Q3+IF((10^(-Q3)+Atot*(H_NH3*(1+K_NH3*10^(-Q3)/K_w))*RTL/(1+(H_NH3*(1+K_NH3*10^(-Q3)/K_w))*RTL)*(K_NH3*10^(-Q3)/K_w)/(1+K_NH3*10^(-Q3)/K_w)-Profile!B3*(H_SO2*(1+Ka_S1/10^(-Q3)+Ka_S1*Ka_S2/10^(-Q3)^2))*RTL/(1+(H_SO2*(1+Ka_S1/10^(-Q3)+Ka_S1*Ka_S2/10^(-Q3)^2))*RTL)*(Ka_S1*10^(-Q3)+2*Ka_S1*Ka_S2)/(10^(-Q3)^2+Ka_S1*10^(-Q3)+Ka_S1*Ka_S2)-Ntot-K_w/10^(-Q3)-Profile!C3*(10^(-Q3)+2*K_HSO4)/(10^(-Q3)+K_HSO4))>0,1,-1)*7/2^16 | S3: =R3+IF((10^(-R3)+Atot*(H_NH3*(1+K_NH3*10^(-R3)/K_w))*RTL/(1+(H_NH3*(1+K_NH3*10^(-R3)/K_w))*RTL)*(K_NH3*10^(-R3)/K_w)/(1+K_NH3*10^(-R3)/K_w)-Profile!B3*(H_SO2*(1+Ka_S1/10^(-R3)+Ka_S1*Ka_S2/10^(-R3)^2))*RTL/(1+(H_SO2*(1+Ka_S1/10^(-R3)+Ka_S1*Ka_S2/10^(-R3)^2))*RTL)*(Ka_S1*10^(-R3)+2*Ka_S1*Ka_S2)/(10^(-R3)^2+Ka_S1*10^(-R3)+Ka_S1*Ka_S2)-Ntot-K_w/10^(-R3)-Profile!C3*(10^(-R3)+2*K_HSO4)/(10^(-R3)+K_HSO4))>0,1,-1)*7/2^17 | T3: =S3+IF((10^(-S3)+Atot*(H_NH3*(1+K_NH3*10^(-S3)/K_w))*RTL/(1+(H_NH3*(1+K_NH3*10^(-S3)/K_w))*RTL)*(K_NH3*10^(-S3)/K_w)/(1+K_NH3*10^(-S3)/K_w)-Profile!B3*(H_SO2*(1+Ka_S1/10^(-S3)+Ka_S1*Ka_S2/10^(-S3)^2))*RTL/(1+(H_SO2*(1+Ka_S1/10^(-S3)+Ka_S1*Ka_S2/10^(-S3)^2))*RTL)*(Ka_S1*10^(-S3)+2*Ka_S1*Ka_S2)/(10^(-S3)^2+Ka_S1*10^(-S3)+Ka_S1*Ka_S2)-Ntot-K_w/10^(-S3)-Profile!C3*(10^(-S3)+2*K_HSO4)/(10^(-S3)+K_HSO4))>0,1,-1)*7/2^18 | U3: =T3+IF((10^(-T3)+Atot*(H_NH3*(1+K_NH3*10^(-T3)/K_w))*RTL/(1+(H_NH3*(1+K_NH3*10^(-T3)/K_w))*RTL)*(K_NH3*10^(-T3)/K_w)/(1+K_NH3*10^(-T3)/K_w)-Profile!B3*(H_SO2*(1+Ka_S1/10^(-T3)+Ka_S1*Ka_S2/10^(-T3)^2))*RTL/(1+(H_SO2*(1+Ka_S1/10^(-T3)+Ka_S1*Ka_S2/10^(-T3)^2))*RTL)*(Ka_S1*10^(-T3)+2*Ka_S1*Ka_S2)/(10^(-T3)^2+Ka_S1*10^(-T3)+Ka_S1*Ka_S2)-Ntot-K_w/10^(-T3)-Profile!C3*(10^(-T3)+2*K_HSO4)/(10^(-T3)+K_HSO4))>0,1,-1)*7/2^19 | V3: =U3+IF((10^(-U3)+Atot*(H_NH3*(1+K_NH3*10^(-U3)/K_w))*RTL/(1+(H_NH3*(1+K_NH3*10^(-U3)/K_w))*RTL)*(K_NH3*10^(-U3)/K_w)/(1+K_NH3*10^(-U3)/K_w)-Profile!B3*(H_SO2*(1+Ka_S1/10^(-U3)+Ka_S1*Ka_S2/10^(-U3)^2))*RTL/(1+(H_SO2*(1+Ka_S1/10^(-U3)+Ka_S1*Ka_S2/10^(-U3)^2))*RTL)*(Ka_S1*10^(-U3)+2*Ka_S1*Ka_S2)/(10^(-U3)^2+Ka_S1*10^(-U3)+Ka_S1*Ka_S2)-Ntot-K_w/10^(-U3)-Profile!C3*(10^(-U3)+2*K_HSO4)/(10^(-U3)+K_HSO4))>0,1,-1)*7/2^20 | W3: =V3+IF((10^(-V3)+Atot*(H_NH3*(1+K_NH3*10^(-V3)/K_w))*RTL/(1+(H_NH3*(1+K_NH3*10^(-V3)/K_w))*RTL)*(K_NH3*10^(-V3)/K_w)/(1+K_NH3*10^(-V3)/K_w)-Profile!B3*(H_SO2*(1+Ka_S1/10^(-V3)+Ka_S1*Ka_S2/10^(-V3)^2))*RTL/(1+(H_SO2*(1+Ka_S1/10^(-V3)+Ka_S1*Ka_S2/10^(-V3)^2))*RTL)*(Ka_S1*10^(-V3)+2*Ka_S1*Ka_S2)/(10^(-V3)^2+Ka_S1*10^(-V3)+Ka_S1*Ka_S2)-Ntot-K_w/10^(-V3)-Profile!C3*(10^(-V3)+2*K_HSO4)/(10^(-V3)+K_HSO4))>0,1,-1)*7/2^21 | X3: =W3+IF((10^(-W3)+Atot*(H_NH3*(1+K_NH3*10^(-W3)/K_w))*RTL/(1+(H_NH3*(1+K_NH3*10^(-W3)/K_w))*RTL)*(K_NH3*10^(-W3)/K_w)/(1+K_NH3*10^(-W3)/K_w)-Profile!B3*(H_SO2*(1+Ka_S1/10^(-W3)+Ka_S1*Ka_S2/10^(-W3)^2))*RTL/(1+(H_SO2*(1+Ka_S1/10^(-W3)+Ka_S1*Ka_S2/10^(-W3)^2))*RTL)*(Ka_S1*10^(-W3)+2*Ka_S1*Ka_S2)/(10^(-W3)^2+Ka_S1*10^(-W3)+Ka_S1*Ka_S2)-Ntot-K_w/10^(-W3)-Profile!C3*(10^(-W3)+2*K_HSO4)/(10^(-W3)+K_HSO4))>0,1,-1)*7/2^22 | Y3: =X3+IF((10^(-X3)+Atot*(H_NH3*(1+K_NH3*10^(-X3)/K_w))*RTL/(1+(H_NH3*(1+K_NH3*10^(-X3)/K_w))*RTL)*(K_NH3*10^(-X3)/K_w)/(1+K_NH3*10^(-X3)/K_w)-Profile!B3*(H_SO2*(1+Ka_S1/10^(-X3)+Ka_S1*Ka_S2/10^(-X3)^2))*RTL/(1+(H_SO2*(1+Ka_S1/10^(-X3)+Ka_S1*Ka_S2/10^(-X3)^2))*RTL)*(Ka_S1*10^(-X3)+2*Ka_S1*Ka_S2)/(10^(-X3)^2+Ka_S1*10^(-X3)+Ka_S1*Ka_S2)-Ntot-K_w/10^(-X3)-Profile!C3*(10^(-X3)+2*K_HSO4)/(10^(-X3)+K_HSO4))>0,1,-1)*7/2^23 | Z3: =Y3+IF((10^(-Y3)+Atot*(H_NH3*(1+K_NH3*10^(-Y3)/K_w))*RTL/(1+(H_NH3*(1+K_NH3*10^(-Y3)/K_w))*RTL)*(K_NH3*10^(-Y3)/K_w)/(1+K_NH3*10^(-Y3)/K_w)-Profile!B3*(H_SO2*(1+Ka_S1/10^(-Y3)+Ka_S1*Ka_S2/10^(-Y3)^2))*RTL/(1+(H_SO2*(1+Ka_S1/10^(-Y3)+Ka_S1*Ka_S2/10^(-Y3)^2))*RTL)*(Ka_S1*10^(-Y3)+2*Ka_S1*Ka_S2)/(10^(-Y3)^2+Ka_S1*10^(-Y3)+Ka_S1*Ka_S2)-Ntot-K_w/10^(-Y3)-Profile!C3*(10^(-Y3)+2*K_HSO4)/(10^(-Y3)+K_HSO4))>0,1,-1)*7/2^24 | AA3: =Z3+IF((10^(-Z3)+Atot*(H_NH3*(1+K_NH3*10^(-Z3)/K_w))*RTL/(1+(H_NH3*(1+K_NH3*10^(-Z3)/K_w))*RTL)*(K_NH3*10^(-Z3)/K_w)/(1+K_NH3*10^(-Z3)/K_w)-Profile!B3*(H_SO2*(1+Ka_S1/10^(-Z3)+Ka_S1*Ka_S2/10^(-Z3)^2))*RTL/(1+(H_SO2*(1+Ka_S1/10^(-Z3)+Ka_S1*Ka_S2/10^(-Z3)^2))*RTL)*(Ka_S1*10^(-Z3)+2*Ka_S1*Ka_S2)/(10^(-Z3)^2+Ka_S1*10^(-Z3)+Ka_S1*Ka_S2)-Ntot-K_w/10^(-Z3)-Profile!C3*(10^(-Z3)+2*K_HSO4)/(10^(-Z3)+K_HSO4))>0,1,-1)*7/2^25 | AB3: =AA3+IF((10^(-AA3)+Atot*(H_NH3*(1+K_NH3*10^(-AA3)/K_w))*RTL/(1+(H_NH3*(1+K_NH3*10^(-AA3)/K_w))*RTL)*(K_NH3*10^(-AA3)/K_w)/(1+K_NH3*10^(-AA3)/K_w)-Profile!B3*(H_SO2*(1+Ka_S1/10^(-AA3)+Ka_S1*Ka_S2/10^(-AA3)^2))*RTL/(1+(H_SO2*(1+Ka_S1/10^(-AA3)+Ka_S1*Ka_S2/10^(-AA3)^2))*RTL)*(Ka_S1*10^(-AA3)+2*Ka_S1*Ka_S2)/(10^(-AA3)^2+Ka_S1*10^(-AA3)+Ka_S1*Ka_S2)-Ntot-K_w/10^(-AA3)-Profile!C3*(10^(-AA3)+2*K_HSO4)/(10^(-AA3)+K_HSO4))>0,1,-1)*7/2^26 | AC3: =AB3+IF((10^(-AB3)+Atot*(H_NH3*(1+K_NH3*10^(-AB3)/K_w))*RTL/(1+(H_NH3*(1+K_NH3*10^(-AB3)/K_w))*RTL)*(K_NH3*10^(-AB3)/K_w)/(1+K_NH3*10^(-AB3)/K_w)-Profile!B3*(H_SO2*(1+Ka_S1/10^(-AB3)+Ka_S1*Ka_S2/10^(-AB3)^2))*RTL/(1+(H_SO2*(1+Ka_S1/10^(-AB3)+Ka_S1*Ka_S2/10^(-AB3)^2))*RTL)*(Ka_S1*10^(-AB3)+2*Ka_S1*Ka_S2)/(10^(-AB3)^2+Ka_S1*10^(-AB3)+Ka_S1*Ka_S2)-Ntot-K_w/10^(-AB3)-Profile!C3*(10^(-AB3)+2*K_HSO4)/(10^(-AB3)+K_HSO4))>0,1,-1)*7/2^27 | AD3: =AC3+IF((10^(-AC3)+Atot*(H_NH3*(1+K_NH3*10^(-AC3)/K_w))*RTL/(1+(H_NH3*(1+K_NH3*10^(-AC3)/K_w))*RTL)*(K_NH3*10^(-AC3)/K_w)/(1+K_NH3*10^(-AC3)/K_w)-Profile!B3*(H_SO2*(1+Ka_S1/10^(-AC3)+Ka_S1*Ka_S2/10^(-AC3)^2))*RTL/(1+(H_SO2*(1+Ka_S1/10^(-AC3)+Ka_S1*Ka_S2/10^(-AC3)^2))*RTL)*(Ka_S1*10^(-AC3)+2*Ka_S1*Ka_S2)/(10^(-AC3)^2+Ka_S1*10^(-AC3)+Ka_S1*Ka_S2)-Ntot-K_w/10^(-AC3)-Profile!C3*(10^(-AC3)+2*K_HSO4)/(10^(-AC3)+K_HSO4))>0,1,-1)*7/2^28 | AE3: =AD3+IF((10^(-AD3)+Atot*(H_NH3*(1+K_NH3*10^(-AD3)/K_w))*RTL/(1+(H_NH3*(1+K_NH3*10^(-AD3)/K_w))*RTL)*(K_NH3*10^(-AD3)/K_w)/(1+K_NH3*10^(-AD3)/K_w)-Profile!B3*(H_SO2*(1+Ka_S1/10^(-AD3)+Ka_S1*Ka_S2/10^(-AD3)^2))*RTL/(1+(H_SO2*(1+Ka_S1/10^(-AD3)+Ka_S1*Ka_S2/10^(-AD3)^2))*RTL)*(Ka_S1*10^(-AD3)+2*Ka_S1*Ka_S2)/(10^(-AD3)^2+Ka_S1*10^(-AD3)+Ka_S1*Ka_S2)-Ntot-K_w/10^(-AD3)-Profile!C3*(10^(-AD3)+2*K_HSO4)/(10^(-AD3)+K_HSO4))>0,1,-1)*7/2^29 | AF3: =AE3+IF((10^(-AE3)+Atot*(H_NH3*(1+K_NH3*10^(-AE3)/K_w))*RTL/(1+(H_NH3*(1+K_NH3*10^(-AE3)/K_w))*RTL)*(K_NH3*10^(-AE3)/K_w)/(1+K_NH3*10^(-AE3)/K_w)-Profile!B3*(H_SO2*(1+Ka_S1/10^(-AE3)+Ka_S1*Ka_S2/10^(-AE3)^2))*RTL/(1+(H_SO2*(1+Ka_S1/10^(-AE3)+Ka_S1*Ka_S2/10^(-AE3)^2))*RTL)*(Ka_S1*10^(-AE3)+2*Ka_S1*Ka_S2)/(10^(-AE3)^2+Ka_S1*10^(-AE3)+Ka_S1*Ka_S2)-Ntot-K_w/10^(-AE3)-Profile!C3*(10^(-AE3)+2*K_HSO4)/(10^(-AE3)+K_HSO4))>0,1,-1)*7/2^30 | AG3: =AF3+IF((10^(-AF3)+Atot*(H_NH3*(1+K_NH3*10^(-AF3)/K_w))*RTL/(1+(H_NH3*(1+K_NH3*10^(-AF3)/K_w))*RTL)*(K_NH3*10^(-AF3)/K_w)/(1+K_NH3*10^(-AF3)/K_w)-Profile!B3*(H_SO2*(1+Ka_S1/10^(-AF3)+Ka_S1*Ka_S2/10^(-AF3)^2))*RTL/(1+(H_SO2*(1+Ka_S1/10^(-AF3)+Ka_S1*Ka_S2/10^(-AF3)^2))*RTL)*(Ka_S1*10^(-AF3)+2*Ka_S1*Ka_S2)/(10^(-AF3)^2+Ka_S1*10^(-AF3)+Ka_S1*Ka_S2)-Ntot-K_w/10^(-AF3)-Profile!C3*(10^(-AF3)+2*K_HSO4)/(10^(-AF3)+K_HSO4))>0,1,-1)*7/2^31 | AH3: =AG3+IF((10^(-AG3)+Atot*(H_NH3*(1+K_NH3*10^(-AG3)/K_w))*RTL/(1+(H_NH3*(1+K_NH3*10^(-AG3)/K_w))*RTL)*(K_NH3*10^(-AG3)/K_w)/(1+K_NH3*10^(-AG3)/K_w)-Profile!B3*(H_SO2*(1+Ka_S1/10^(-AG3)+Ka_S1*Ka_S2/10^(-AG3)^2))*RTL/(1+(H_SO2*(1+Ka_S1/10^(-AG3)+Ka_S1*Ka_S2/10^(-AG3)^2))*RTL)*(Ka_S1*10^(-AG3)+2*Ka_S1*Ka_S2)/(10^(-AG3)^2+Ka_S1*10^(-AG3)+Ka_S1*Ka_S2)-Ntot-K_w/10^(-AG3)-Profile!C3*(10^(-AG3)+2*K_HSO4)/(10^(-AG3)+K_HSO4))>0,1,-1)*7/2^32 | AI3: =AH3+IF((10^(-AH3)+Atot*(H_NH3*(1+K_NH3*10^(-AH3)/K_w))*RTL/(1+(H_NH3*(1+K_NH3*10^(-AH3)/K_w))*RTL)*(K_NH3*10^(-AH3)/K_w)/(1+K_NH3*10^(-AH3)/K_w)-Profile!B3*(H_SO2*(1+Ka_S1/10^(-AH3)+Ka_S1*Ka_S2/10^(-AH3)^2))*RTL/(1+(H_SO2*(1+Ka_S1/10^(-AH3)+Ka_S1*Ka_S2/10^(-AH3)^2))*RTL)*(Ka_S1*10^(-AH3)+2*Ka_S1*Ka_S2)/(10^(-AH3)^2+Ka_S1*10^(-AH3)+Ka_S1*Ka_S2)-Ntot-K_w/10^(-AH3)-Profile!C3*(10^(-AH3)+2*K_HSO4)/(10^(-AH3)+K_HSO4))>0,1,-1)*7/2^33 | AJ3: =AI3+IF((10^(-AI3)+Atot*(H_NH3*(1+K_NH3*10^(-AI3)/K_w))*RTL/(1+(H_NH3*(1+K_NH3*10^(-AI3)/K_w))*RTL)*(K_NH3*10^(-AI3)/K_w)/(1+K_NH3*10^(-AI3)/K_w)-Profile!B3*(H_SO2*(1+Ka_S1/10^(-AI3)+Ka_S1*Ka_S2/10^(-AI3)^2))*RTL/(1+(H_SO2*(1+Ka_S1/10^(-AI3)+Ka_S1*Ka_S2/10^(-AI3)^2))*RTL)*(Ka_S1*10^(-AI3)+2*Ka_S1*Ka_S2)/(10^(-AI3)^2+Ka_S1*10^(-AI3)+Ka_S1*Ka_S2)-Ntot-K_w/10^(-AI3)-Profile!C3*(10^(-AI3)+2*K_HSO4)/(10^(-AI3)+K_HSO4))>0,1,-1)*7/2^34 | AK3: =AJ3+IF((10^(-AJ3)+Atot*(H_NH3*(1+K_NH3*10^(-AJ3)/K_w))*RTL/(1+(H_NH3*(1+K_NH3*10^(-AJ3)/K_w))*RTL)*(K_NH3*10^(-AJ3)/K_w)/(1+K_NH3*10^(-AJ3)/K_w)-Profile!B3*(H_SO2*(1+Ka_S1/10^(-AJ3)+Ka_S1*Ka_S2/10^(-AJ3)^2))*RTL/(1+(H_SO2*(1+Ka_S1/10^(-AJ3)+Ka_S1*Ka_S2/10^(-AJ3)^2))*RTL)*(Ka_S1*10^(-AJ3)+2*Ka_S1*Ka_S2)/(10^(-AJ3)^2+Ka_S1*10^(-AJ3)+Ka_S1*Ka_S2)-Ntot-K_w/10^(-AJ3)-Profile!C3*(10^(-AJ3)+2*K_HSO4)/(10^(-AJ3)+K_HSO4))>0,1,-1)*7/2^35 | AL3: =AK3+IF((10^(-AK3)+Atot*(H_NH3*(1+K_NH3*10^(-AK3)/K_w))*RTL/(1+(H_NH3*(1+K_NH3*10^(-AK3)/K_w))*RTL)*(K_NH3*10^(-AK3)/K_w)/(1+K_NH3*10^(-AK3)/K_w)-Profile!B3*(H_SO2*(1+Ka_S1/10^(-AK3)+Ka_S1*Ka_S2/10^(-AK3)^2))*RTL/(1+(H_SO2*(1+Ka_S1/10^(-AK3)+Ka_S1*Ka_S2/10^(-AK3)^2))*RTL)*(Ka_S1*10^(-AK3)+2*Ka_S1*Ka_S2)/(10^(-AK3)^2+Ka_S1*10^(-AK3)+Ka_S1*Ka_S2)-Ntot-K_w/10^(-AK3)-Profile!C3*(10^(-AK3)+2*K_HSO4)/(10^(-AK3)+K_HSO4))>0,1,-1)*7/2^36
